BEGIN:VCALENDAR
VERSION:2.0
PRODID:-//Szkoła Podstawowa nr 45 w Krakowie - ECPv6.8.2.1//NONSGML v1.0//EN
CALSCALE:GREGORIAN
METHOD:PUBLISH
X-WR-CALNAME:Szkoła Podstawowa nr 45 w Krakowie
X-ORIGINAL-URL:https://sp45.pl
X-WR-CALDESC:Events for Szkoła Podstawowa nr 45 w Krakowie
REFRESH-INTERVAL;VALUE=DURATION:PT1H
X-Robots-Tag:noindex
X-PUBLISHED-TTL:PT1H
BEGIN:VTIMEZONE
TZID:Europe/Warsaw
BEGIN:DAYLIGHT
TZOFFSETFROM:+0100
TZOFFSETTO:+0200
TZNAME:CEST
DTSTART:20240331T010000
END:DAYLIGHT
BEGIN:STANDARD
TZOFFSETFROM:+0200
TZOFFSETTO:+0100
TZNAME:CET
DTSTART:20241027T010000
END:STANDARD
END:VTIMEZONE
BEGIN:VEVENT
DTSTART;VALUE=DATE:20240502
DTEND;VALUE=DATE:20240503
DTSTAMP:20260423T034249
CREATED:20231024T095351Z
LAST-MODIFIED:20231024T095351Z
UID:7055-1714608000-1714694399@sp45.pl
SUMMARY:Dzień Wolny od zajęć dydaktycznych
DESCRIPTION:
URL:https://sp45.pl/kalendarz/dzien-wolny-od-zajec-dydaktycznych-3/
END:VEVENT
BEGIN:VEVENT
DTSTART;TZID=Europe/Warsaw:20240512T123000
DTEND;TZID=Europe/Warsaw:20240512T133000
DTSTAMP:20260423T034249
CREATED:20231024T094658Z
LAST-MODIFIED:20231024T094658Z
UID:7036-1715517000-1715520600@sp45.pl
SUMMARY:Pierwsza Komunia Święta uczniów klasy III
DESCRIPTION:
URL:https://sp45.pl/kalendarz/pierwsza-komunia-swieta-uczniow-klasy-iii/
END:VEVENT
BEGIN:VEVENT
DTSTART;VALUE=DATE:20240514
DTEND;VALUE=DATE:20240517
DTSTAMP:20260423T034249
CREATED:20221021T175551Z
LAST-MODIFIED:20231024T093159Z
UID:3875-1715644800-1715903999@sp45.pl
SUMMARY:Egzamin ósmoklasisty
DESCRIPTION:
URL:https://sp45.pl/kalendarz/egzamin-osmoklasisty/
END:VEVENT
BEGIN:VEVENT
DTSTART;VALUE=DATE:20240531
DTEND;VALUE=DATE:20240601
DTSTAMP:20260423T034249
CREATED:20231024T095524Z
LAST-MODIFIED:20231024T095524Z
UID:7057-1717113600-1717199999@sp45.pl
SUMMARY:Dzień Wolny od zajęć dydaktycznych
DESCRIPTION:
URL:https://sp45.pl/kalendarz/dzien-wolny-od-zajec-dydaktycznych-4/
END:VEVENT
END:VCALENDAR