BEGIN:VCALENDAR
VERSION:2.0
PRODID:-//Szkoła Podstawowa nr 45 w Krakowie - ECPv6.8.2.1//NONSGML v1.0//EN
CALSCALE:GREGORIAN
METHOD:PUBLISH
X-ORIGINAL-URL:https://sp45.pl
X-WR-CALDESC:Events for Szkoła Podstawowa nr 45 w Krakowie
REFRESH-INTERVAL;VALUE=DURATION:PT1H
X-Robots-Tag:noindex
X-PUBLISHED-TTL:PT1H
BEGIN:VTIMEZONE
TZID:Europe/Warsaw
BEGIN:DAYLIGHT
TZOFFSETFROM:+0100
TZOFFSETTO:+0200
TZNAME:CEST
DTSTART:20220327T010000
END:DAYLIGHT
BEGIN:STANDARD
TZOFFSETFROM:+0200
TZOFFSETTO:+0100
TZNAME:CET
DTSTART:20221030T010000
END:STANDARD
END:VTIMEZONE
BEGIN:VEVENT
DTSTART;TZID=Europe/Warsaw:20221202T080000
DTEND;TZID=Europe/Warsaw:20221202T090000
DTSTAMP:20260425T005626
CREATED:20221021T175848Z
LAST-MODIFIED:20221021T175848Z
UID:3882-1669968000-1669971600@sp45.pl
SUMMARY:Msza Święta - pierwszy piątek miesiąca
DESCRIPTION:
URL:https://sp45.pl/kalendarz/msza-swieta-pierwszy-piatek-miesiaca-2/
END:VEVENT
BEGIN:VEVENT
DTSTART;TZID=Europe/Warsaw:20221211T110000
DTEND;TZID=Europe/Warsaw:20221211T120000
DTSTAMP:20260425T005626
CREATED:20221021T180402Z
LAST-MODIFIED:20221021T180402Z
UID:3894-1670756400-1670760000@sp45.pl
SUMMARY:Szkolna Msza Święta - II niedziela miesiąca
DESCRIPTION:
URL:https://sp45.pl/kalendarz/szkolna-msza-swieta-ii-niedziela-miesiaca-2/
END:VEVENT
BEGIN:VEVENT
DTSTART;TZID=Europe/Warsaw:20221215T170000
DTEND;TZID=Europe/Warsaw:20221215T190000
DTSTAMP:20260425T005626
CREATED:20221021T181220Z
LAST-MODIFIED:20221021T181220Z
UID:3912-1671123600-1671130800@sp45.pl
SUMMARY:Dzień otwarty
DESCRIPTION:konsultacje rodziców z nauczycielami
URL:https://sp45.pl/kalendarz/dzien-otwarty/
END:VEVENT
BEGIN:VEVENT
DTSTART;VALUE=DATE:20221222
DTEND;VALUE=DATE:20221223
DTSTAMP:20260425T005626
CREATED:20221021T175251Z
LAST-MODIFIED:20221021T175251Z
UID:3864-1671667200-1671753599@sp45.pl
SUMMARY:Opłatek dla wspólnoty uczniów
DESCRIPTION:
URL:https://sp45.pl/kalendarz/oplatek-dla-wspolnoty-uczniow/
END:VEVENT
BEGIN:VEVENT
DTSTART;VALUE=DATE:20221223
DTEND;VALUE=DATE:20230101
DTSTAMP:20260425T005626
CREATED:20221021T175359Z
LAST-MODIFIED:20221021T175359Z
UID:3866-1671753600-1672531199@sp45.pl
SUMMARY:Zimowa przerwa świąteczna
DESCRIPTION:
URL:https://sp45.pl/kalendarz/zimowa-przerwa-swiateczna/
END:VEVENT
END:VCALENDAR