BEGIN:VCALENDAR
VERSION:2.0
PRODID:-//Szkoła Podstawowa nr 45 w Krakowie - ECPv6.8.2.1//NONSGML v1.0//EN
CALSCALE:GREGORIAN
METHOD:PUBLISH
X-WR-CALNAME:Szkoła Podstawowa nr 45 w Krakowie
X-ORIGINAL-URL:https://sp45.pl
X-WR-CALDESC:Events for Szkoła Podstawowa nr 45 w Krakowie
REFRESH-INTERVAL;VALUE=DURATION:PT1H
X-Robots-Tag:noindex
X-PUBLISHED-TTL:PT1H
BEGIN:VTIMEZONE
TZID:Europe/Warsaw
BEGIN:DAYLIGHT
TZOFFSETFROM:+0100
TZOFFSETTO:+0200
TZNAME:CEST
DTSTART:20230326T010000
END:DAYLIGHT
BEGIN:STANDARD
TZOFFSETFROM:+0200
TZOFFSETTO:+0100
TZNAME:CET
DTSTART:20231029T010000
END:STANDARD
END:VTIMEZONE
BEGIN:VEVENT
DTSTART;VALUE=DATE:20231116
DTEND;VALUE=DATE:20231117
DTSTAMP:20260423T132224
CREATED:20231024T082819Z
LAST-MODIFIED:20231024T082819Z
UID:6984-1700092800-1700179199@sp45.pl
SUMMARY:Uroczystość odpustowa w Parafii Matki Bożej Ostrobramskiej
DESCRIPTION:
URL:https://sp45.pl/kalendarz/uroczystosc-odpustowa-w-parafii-matki-bozej-ostrobramskiej/
END:VEVENT
BEGIN:VEVENT
DTSTART;VALUE=DATE:20231116
DTEND;VALUE=DATE:20231117
DTSTAMP:20260423T132224
CREATED:20231024T083826Z
LAST-MODIFIED:20231024T092929Z
UID:7000-1700092800-1700179199@sp45.pl
SUMMARY:Małopolski Konkurs Chemiczny - etap szkolny
DESCRIPTION:
URL:https://sp45.pl/kalendarz/malopolski-konkurs-chemiczny-2/
END:VEVENT
BEGIN:VEVENT
DTSTART;TZID=Europe/Warsaw:20231116T170000
DTEND;TZID=Europe/Warsaw:20231116T190000
DTSTAMP:20260423T132224
CREATED:20231024T082924Z
LAST-MODIFIED:20231024T082924Z
UID:6988-1700154000-1700161200@sp45.pl
SUMMARY:Zebranie z rodzicami
DESCRIPTION:
URL:https://sp45.pl/kalendarz/zebranie-z-rodzicami/
END:VEVENT
END:VCALENDAR