BEGIN:VCALENDAR
VERSION:2.0
PRODID:-//Szkoła Podstawowa nr 45 w Krakowie - ECPv6.8.2.1//NONSGML v1.0//EN
CALSCALE:GREGORIAN
METHOD:PUBLISH
X-WR-CALNAME:Szkoła Podstawowa nr 45 w Krakowie
X-ORIGINAL-URL:https://sp45.pl
X-WR-CALDESC:Events for Szkoła Podstawowa nr 45 w Krakowie
REFRESH-INTERVAL;VALUE=DURATION:PT1H
X-Robots-Tag:noindex
X-PUBLISHED-TTL:PT1H
BEGIN:VTIMEZONE
TZID:Europe/Warsaw
BEGIN:DAYLIGHT
TZOFFSETFROM:+0100
TZOFFSETTO:+0200
TZNAME:CEST
DTSTART:20230326T010000
END:DAYLIGHT
BEGIN:STANDARD
TZOFFSETFROM:+0200
TZOFFSETTO:+0100
TZNAME:CET
DTSTART:20231029T010000
END:STANDARD
END:VTIMEZONE
BEGIN:VEVENT
DTSTART;TZID=Europe/Warsaw:20231103T080000
DTEND;TZID=Europe/Warsaw:20231103T090000
DTSTAMP:20260423T131811
CREATED:20231024T082501Z
LAST-MODIFIED:20231024T082501Z
UID:6978-1698998400-1699002000@sp45.pl
SUMMARY:Msza Święta - pierwszy piątek miesiąca
DESCRIPTION:kl. VII
URL:https://sp45.pl/kalendarz/msza-swieta-pierwszy-piatek-miesiaca-7/
END:VEVENT
END:VCALENDAR