BEGIN:VCALENDAR
VERSION:2.0
PRODID:-//Szkoła Podstawowa nr 45 w Krakowie - ECPv6.8.2.1//NONSGML v1.0//EN
CALSCALE:GREGORIAN
METHOD:PUBLISH
X-WR-CALNAME:Szkoła Podstawowa nr 45 w Krakowie
X-ORIGINAL-URL:https://sp45.pl
X-WR-CALDESC:Events for Szkoła Podstawowa nr 45 w Krakowie
REFRESH-INTERVAL;VALUE=DURATION:PT1H
X-Robots-Tag:noindex
X-PUBLISHED-TTL:PT1H
BEGIN:VTIMEZONE
TZID:Europe/Warsaw
BEGIN:DAYLIGHT
TZOFFSETFROM:+0100
TZOFFSETTO:+0200
TZNAME:CEST
DTSTART:20220327T010000
END:DAYLIGHT
BEGIN:STANDARD
TZOFFSETFROM:+0200
TZOFFSETTO:+0100
TZNAME:CET
DTSTART:20221030T010000
END:STANDARD
END:VTIMEZONE
BEGIN:VEVENT
DTSTART;VALUE=DATE:20221124
DTEND;VALUE=DATE:20221125
DTSTAMP:20260425T040150
CREATED:20221021T181034Z
LAST-MODIFIED:20221021T181034Z
UID:3907-1669248000-1669334399@sp45.pl
SUMMARY:Zebranie rodziców z nauczycielami
DESCRIPTION:klasy: I\, II\, III\, IV o godzinie 17.00 \nklasy: V\, VI\, VII\, VIII o godzinie 18:00 \n 
URL:https://sp45.pl/kalendarz/zebranie-rodzicow-z-nauczycielami/
END:VEVENT
END:VCALENDAR