BEGIN:VCALENDAR
VERSION:2.0
PRODID:-//Szkoła Podstawowa nr 45 w Krakowie - ECPv6.8.2.1//NONSGML v1.0//EN
CALSCALE:GREGORIAN
METHOD:PUBLISH
X-WR-CALNAME:Szkoła Podstawowa nr 45 w Krakowie
X-ORIGINAL-URL:https://sp45.pl
X-WR-CALDESC:Events for Szkoła Podstawowa nr 45 w Krakowie
REFRESH-INTERVAL;VALUE=DURATION:PT1H
X-Robots-Tag:noindex
X-PUBLISHED-TTL:PT1H
BEGIN:VTIMEZONE
TZID:Europe/Warsaw
BEGIN:DAYLIGHT
TZOFFSETFROM:+0100
TZOFFSETTO:+0200
TZNAME:CEST
DTSTART:20220327T010000
END:DAYLIGHT
BEGIN:STANDARD
TZOFFSETFROM:+0200
TZOFFSETTO:+0100
TZNAME:CET
DTSTART:20221030T010000
END:STANDARD
END:VTIMEZONE
BEGIN:VEVENT
DTSTART;TZID=Europe/Warsaw:20221025T130000
DTEND;TZID=Europe/Warsaw:20221025T143000
DTSTAMP:20260425T054104
CREATED:20221021T175155Z
LAST-MODIFIED:20221021T175155Z
UID:3862-1666702800-1666708200@sp45.pl
SUMMARY:Małopolski Konkurs Chemiczny
DESCRIPTION:etap szkolny
URL:https://sp45.pl/kalendarz/malopolski-konkurs-chemiczny/
END:VEVENT
END:VCALENDAR