BEGIN:VCALENDAR
VERSION:2.0
PRODID:-//Szkoła Podstawowa nr 45 w Krakowie - ECPv6.8.2.1//NONSGML v1.0//EN
CALSCALE:GREGORIAN
METHOD:PUBLISH
X-ORIGINAL-URL:https://sp45.pl
X-WR-CALDESC:Events for Szkoła Podstawowa nr 45 w Krakowie
REFRESH-INTERVAL;VALUE=DURATION:PT1H
X-Robots-Tag:noindex
X-PUBLISHED-TTL:PT1H
BEGIN:VTIMEZONE
TZID:Europe/Warsaw
BEGIN:DAYLIGHT
TZOFFSETFROM:+0100
TZOFFSETTO:+0200
TZNAME:CEST
DTSTART:20220327T010000
END:DAYLIGHT
BEGIN:STANDARD
TZOFFSETFROM:+0200
TZOFFSETTO:+0100
TZNAME:CET
DTSTART:20221030T010000
END:STANDARD
END:VTIMEZONE
BEGIN:VEVENT
DTSTART;TZID=Europe/Warsaw:20221024T130000
DTEND;TZID=Europe/Warsaw:20221024T143000
DTSTAMP:20260425T053458
CREATED:20221021T175023Z
LAST-MODIFIED:20221021T175023Z
UID:3860-1666616400-1666621800@sp45.pl
SUMMARY:Małopolski Konkurs z Fizyki
DESCRIPTION:etap szkolny \n 
URL:https://sp45.pl/kalendarz/malopolski-konkurs-z-fizyki/
END:VEVENT
END:VCALENDAR